BEGIN:VCALENDAR
VERSION:2.0
PRODID:-//Post SV - ECPv6.15.20//NONSGML v1.0//EN
CALSCALE:GREGORIAN
METHOD:PUBLISH
X-ORIGINAL-URL:https://postsv.com
X-WR-CALDESC:Veranstaltungen für Post SV
REFRESH-INTERVAL;VALUE=DURATION:PT1H
X-Robots-Tag:noindex
X-PUBLISHED-TTL:PT1H
BEGIN:VTIMEZONE
TZID:Europe/Vienna
BEGIN:DAYLIGHT
TZOFFSETFROM:+0100
TZOFFSETTO:+0200
TZNAME:CEST
DTSTART:20230326T010000
END:DAYLIGHT
BEGIN:STANDARD
TZOFFSETFROM:+0200
TZOFFSETTO:+0100
TZNAME:CET
DTSTART:20231029T010000
END:STANDARD
BEGIN:DAYLIGHT
TZOFFSETFROM:+0100
TZOFFSETTO:+0200
TZNAME:CEST
DTSTART:20240331T010000
END:DAYLIGHT
BEGIN:STANDARD
TZOFFSETFROM:+0200
TZOFFSETTO:+0100
TZNAME:CET
DTSTART:20241027T010000
END:STANDARD
BEGIN:DAYLIGHT
TZOFFSETFROM:+0100
TZOFFSETTO:+0200
TZNAME:CEST
DTSTART:20250330T010000
END:DAYLIGHT
BEGIN:STANDARD
TZOFFSETFROM:+0200
TZOFFSETTO:+0100
TZNAME:CET
DTSTART:20251026T010000
END:STANDARD
END:VTIMEZONE
BEGIN:VEVENT
DTSTART;TZID=Europe/Vienna:20240201T080000
DTEND;TZID=Europe/Vienna:20240204T170000
DTSTAMP:20260423T033549
CREATED:20240201T135640Z
LAST-MODIFIED:20240201T140752Z
UID:23981-1706774400-1707066000@postsv.com
SUMMARY:Hallen-EM der Herren in Leuven (BEL)
DESCRIPTION:EuroHockey Indoor Championship Men 2024 – Leuven
URL:https://postsv.com/event/hallen-em-der-herren-in-leuven-bel/
CATEGORIES:Team
END:VEVENT
BEGIN:VEVENT
DTSTART;VALUE=DATE:20240208
DTEND;VALUE=DATE:20240212
DTSTAMP:20260423T033549
CREATED:20240201T135810Z
LAST-MODIFIED:20240201T140727Z
UID:23983-1707350400-1707695999@postsv.com
SUMMARY:Hallen-EM der Damen in Berlin (GER)
DESCRIPTION:
URL:https://postsv.com/event/hallen-em-der-damen-in-berlin-ger/
CATEGORIES:Team
END:VEVENT
END:VCALENDAR