BEGIN:VCALENDAR
VERSION:2.0
PRODID:-//Post SV - ECPv6.15.20//NONSGML v1.0//EN
CALSCALE:GREGORIAN
METHOD:PUBLISH
X-WR-CALNAME:Post SV
X-ORIGINAL-URL:https://postsv.com
X-WR-CALDESC:Veranstaltungen für Post SV
REFRESH-INTERVAL;VALUE=DURATION:PT1H
X-Robots-Tag:noindex
X-PUBLISHED-TTL:PT1H
BEGIN:VTIMEZONE
TZID:Europe/Vienna
BEGIN:DAYLIGHT
TZOFFSETFROM:+0100
TZOFFSETTO:+0200
TZNAME:CEST
DTSTART:20230326T010000
END:DAYLIGHT
BEGIN:STANDARD
TZOFFSETFROM:+0200
TZOFFSETTO:+0100
TZNAME:CET
DTSTART:20231029T010000
END:STANDARD
BEGIN:DAYLIGHT
TZOFFSETFROM:+0100
TZOFFSETTO:+0200
TZNAME:CEST
DTSTART:20240331T010000
END:DAYLIGHT
BEGIN:STANDARD
TZOFFSETFROM:+0200
TZOFFSETTO:+0100
TZNAME:CET
DTSTART:20241027T010000
END:STANDARD
BEGIN:DAYLIGHT
TZOFFSETFROM:+0100
TZOFFSETTO:+0200
TZNAME:CEST
DTSTART:20250330T010000
END:DAYLIGHT
BEGIN:STANDARD
TZOFFSETFROM:+0200
TZOFFSETTO:+0100
TZNAME:CET
DTSTART:20251026T010000
END:STANDARD
END:VTIMEZONE
BEGIN:VEVENT
DTSTART;TZID=Europe/Vienna:20240524T160000
DTEND;TZID=Europe/Vienna:20240524T210000
DTSTAMP:20260422T180747
CREATED:20240510T105105Z
LAST-MODIFIED:20240510T105105Z
UID:24588-1716566400-1716584400@postsv.com
SUMMARY:Meisterfeier Halle 2023/2024
DESCRIPTION:Am Freitag\, dem 24. Mai ehren wir unsere Hallenmeister der abgelaufenen Hallensaison! \nWir laden alle Kinder bis zur U12 (auch Nicht-Meister ) und natürlich alle Meisterkinder (Einladungen kommen extra) herzlich zu dieser Feier ein. \nWir starten am Nachmittag um 16 Uhr mit U9-Einlagespielen – genaue Infos diesbezüglich werden noch an die U9 Kinder (auch die Jahrgänge 2015\, weil sie ja in der Halle auch noch U9 gespielt haben) ausgeschickt. \nDie Ehrungen der HallenmeisterInnen beginnen um 17:30 Uhr. \nWIR BITTEN ALLE MEISTERKINDER ZUR EHRUNG IHRE MEDAILLE MITZUBRINGEN! \nWir werden an diesem Tag grillen. Alle Kids sind auf Essen und Getränke eingeladen. Eltern und Begleitpersonen werden selbstverständlich auch verköstigt\, für sie gelten die ausgehängten Kantinenpreise. \nWir freuen uns auf einen tollen Nachmittag mit euch allen!
URL:https://postsv.com/event/meisterfeier-halle-2023-2024/
CATEGORIES:Post
END:VEVENT
END:VCALENDAR